Package: BASiCStan Version: 1.8.0 Command: /home/biocbuild/bbs-3.20-bioc/R/bin/R CMD check --install=check:BASiCStan.install-out.txt --library=/home/biocbuild/bbs-3.20-bioc/R/site-library --timings BASiCStan_1.8.0.tar.gz StartedAt: 2025-01-30 20:03:45 -0500 (Thu, 30 Jan 2025) EndedAt: 2025-01-30 20:09:06 -0500 (Thu, 30 Jan 2025) EllapsedTime: 321.3 seconds RetCode: 0 Status: OK CheckDir: BASiCStan.Rcheck Warnings: 0