Package: BASiCStan Version: 1.7.0 Command: chmod a+r BASiCStan -R && C:\Users\biocbuild\bbs-3.20-bioc\R\bin\R.exe CMD build --keep-empty-dirs --no-resave-data BASiCStan StartedAt: 2024-07-15 16:36:36 -0400 (Mon, 15 Jul 2024) EndedAt: 2024-07-15 16:41:17 -0400 (Mon, 15 Jul 2024) EllapsedTime: 281.0 seconds RetCode: 0 Status: OK PackageFile: BASiCStan_1.7.0.tar.gz PackageFileSize: 42.45 KiB