Package: BASiCStan Version: 1.8.0 Command: rm -rf BASiCStan.buildbin-libdir && mkdir BASiCStan.buildbin-libdir && F:\biocbuild\bbs-3.20-bioc\R\bin\R.exe CMD INSTALL --build --library=BASiCStan.buildbin-libdir BASiCStan_1.8.0.tar.gz StartedAt: 2025-01-31 08:11:26 -0500 (Fri, 31 Jan 2025) EndedAt: 2025-01-31 08:20:40 -0500 (Fri, 31 Jan 2025) EllapsedTime: 553.8 seconds RetCode: 0 Status: OK PackageFile: BASiCStan_1.8.0.zip PackageFileSize: 1.182 MiB