Package: BASiCStan Version: 1.8.0 Command: /home/biocbuild/R/R/bin/R CMD build --keep-empty-dirs --no-resave-data BASiCStan StartedAt: 2025-01-30 21:42:24 -0000 (Thu, 30 Jan 2025) EndedAt: 2025-01-30 21:48:38 -0000 (Thu, 30 Jan 2025) EllapsedTime: 374.1 seconds RetCode: 0 Status: OK PackageFile: BASiCStan_1.8.0.tar.gz PackageFileSize: 47.26 KiB