Package: BASiCStan Version: 1.8.0 Command: /home/biocbuild/R/R/bin/R CMD check --install=check:BASiCStan.install-out.txt --library=/home/biocbuild/R/R/site-library --no-vignettes --timings BASiCStan_1.8.0.tar.gz StartedAt: 2025-01-31 04:00:22 -0000 (Fri, 31 Jan 2025) EndedAt: 2025-01-31 04:07:36 -0000 (Fri, 31 Jan 2025) EllapsedTime: 434.6 seconds RetCode: 0 Status: WARNINGS CheckDir: BASiCStan.Rcheck Warnings: 1