Package: BASiCStan Version: 1.8.0 Command: /home/biocbuild/R/R/bin/R CMD INSTALL BASiCStan StartedAt: 2025-01-30 21:03:21 -0000 (Thu, 30 Jan 2025) EndedAt: 2025-01-30 21:09:52 -0000 (Thu, 30 Jan 2025) EllapsedTime: 390.5 seconds RetCode: 0 Status: OK