Package: BBCAnalyzer Version: 1.36.0 Command: rm -rf BBCAnalyzer.buildbin-libdir && mkdir BBCAnalyzer.buildbin-libdir && /Users/biocbuild/BBS/utils/build-universal.sh BBCAnalyzer_1.36.0.tar.gz /Library/Frameworks/R.framework/Resources/bin/R BBCAnalyzer.buildbin-libdir StartedAt: 2025-02-12 14:09:11 -0500 (Wed, 12 Feb 2025) EndedAt: 2025-02-12 14:10:07 -0500 (Wed, 12 Feb 2025) EllapsedTime: 55.8 seconds RetCode: 0 Status: OK PackageFile: BBCAnalyzer_1.36.0.tgz PackageFileSize: 2.06 MiB