Package: BBCAnalyzer Version: 1.36.0 Command: /Library/Frameworks/R.framework/Resources/bin/R CMD INSTALL BBCAnalyzer StartedAt: 2025-02-03 15:57:55 -0500 (Mon, 03 Feb 2025) EndedAt: 2025-02-03 15:58:47 -0500 (Mon, 03 Feb 2025) EllapsedTime: 51.8 seconds RetCode: 0 Status: OK