Package: BBCAnalyzer Version: 1.36.0 Command: rm -rf BBCAnalyzer.buildbin-libdir && mkdir BBCAnalyzer.buildbin-libdir && F:\biocbuild\bbs-3.20-bioc\R\bin\R.exe CMD INSTALL --build --library=BBCAnalyzer.buildbin-libdir BBCAnalyzer_1.36.0.tar.gz StartedAt: 2025-02-11 07:57:47 -0500 (Tue, 11 Feb 2025) EndedAt: 2025-02-11 07:58:46 -0500 (Tue, 11 Feb 2025) EllapsedTime: 59.6 seconds RetCode: 0 Status: OK PackageFile: BBCAnalyzer_1.36.0.zip PackageFileSize: 1.941 MiB