Package: BBCAnalyzer Version: 1.36.0 Command: /home/biocbuild/R/R/bin/R CMD check --install=check:BBCAnalyzer.install-out.txt --library=/home/biocbuild/R/R/site-library --no-vignettes --timings BBCAnalyzer_1.36.0.tar.gz StartedAt: 2025-02-04 04:36:44 -0000 (Tue, 04 Feb 2025) EndedAt: 2025-02-04 04:44:20 -0000 (Tue, 04 Feb 2025) EllapsedTime: 455.9 seconds RetCode: 0 Status: OK CheckDir: BBCAnalyzer.Rcheck Warnings: 0