Package: BBCAnalyzer Version: 1.36.0 Command: /home/biocbuild/R/R/bin/R CMD INSTALL BBCAnalyzer StartedAt: 2025-02-03 20:43:04 -0000 (Mon, 03 Feb 2025) EndedAt: 2025-02-03 20:43:59 -0000 (Mon, 03 Feb 2025) EllapsedTime: 55.2 seconds RetCode: 0 Status: OK