Package: BCRANK Version: 1.68.0 Command: /Library/Frameworks/R.framework/Resources/bin/R CMD build --keep-empty-dirs --no-resave-data BCRANK StartedAt: 2025-02-10 19:23:45 -0500 (Mon, 10 Feb 2025) EndedAt: 2025-02-10 19:24:16 -0500 (Mon, 10 Feb 2025) EllapsedTime: 30.7 seconds RetCode: 0 Status: OK PackageFile: BCRANK_1.68.0.tar.gz PackageFileSize: 2.902 MiB