Package: BCRANK Version: 1.68.0 Command: /Library/Frameworks/R.framework/Resources/bin/R CMD INSTALL BCRANK StartedAt: 2025-02-03 15:22:03 -0500 (Mon, 03 Feb 2025) EndedAt: 2025-02-03 15:22:29 -0500 (Mon, 03 Feb 2025) EllapsedTime: 26.0 seconds RetCode: 0 Status: OK