Package: BCRANK Version: 1.68.0 Command: /home/biocbuild/R/R/bin/R CMD build --keep-empty-dirs --no-resave-data BCRANK StartedAt: 2025-02-03 21:48:47 -0000 (Mon, 03 Feb 2025) EndedAt: 2025-02-03 21:49:10 -0000 (Mon, 03 Feb 2025) EllapsedTime: 23.0 seconds RetCode: 0 Status: OK PackageFile: BCRANK_1.68.0.tar.gz PackageFileSize: 2.893 MiB