Package: BEARscc Version: 1.26.0 Command: /Library/Frameworks/R.framework/Resources/bin/R CMD INSTALL BEARscc StartedAt: 2025-01-30 15:38:51 -0500 (Thu, 30 Jan 2025) EndedAt: 2025-01-30 15:39:27 -0500 (Thu, 30 Jan 2025) EllapsedTime: 36.7 seconds RetCode: 0 Status: OK