Package: BEARscc Version: 1.26.0 Command: rm -rf BEARscc.buildbin-libdir && mkdir BEARscc.buildbin-libdir && /Users/biocbuild/BBS/utils/build-universal.sh BEARscc_1.26.0.tar.gz /Library/Frameworks/R.framework/Resources/bin/R BEARscc.buildbin-libdir StartedAt: 2025-01-31 12:22:55 -0500 (Fri, 31 Jan 2025) EndedAt: 2025-01-31 12:24:06 -0500 (Fri, 31 Jan 2025) EllapsedTime: 70.7 seconds RetCode: 0 Status: OK PackageFile: BEARscc_1.26.0.tgz PackageFileSize: 695.4 KiB