Package: BEARscc Version: 1.26.0 Command: /Library/Frameworks/R.framework/Resources/bin/R CMD build --keep-empty-dirs --no-resave-data BEARscc StartedAt: 2025-01-30 17:18:56 -0500 (Thu, 30 Jan 2025) EndedAt: 2025-01-30 17:21:31 -0500 (Thu, 30 Jan 2025) EllapsedTime: 154.2 seconds RetCode: 0 Status: OK PackageFile: BEARscc_1.26.0.tar.gz PackageFileSize: 652.1 KiB