Package: BEARscc Version: 1.26.0 Command: /Library/Frameworks/R.framework/Resources/bin/R CMD check --install=check:BEARscc.install-out.txt --library=/Library/Frameworks/R.framework/Resources/library --no-vignettes --timings BEARscc_1.26.0.tar.gz StartedAt: 2025-01-31 00:33:24 -0500 (Fri, 31 Jan 2025) EndedAt: 2025-01-31 00:41:01 -0500 (Fri, 31 Jan 2025) EllapsedTime: 456.6 seconds RetCode: 1 Status: ERROR CheckDir: BEARscc.Rcheck Warnings: NA