Package: BEARscc Version: 1.26.0 Command: /Library/Frameworks/R.framework/Resources/bin/R CMD INSTALL BEARscc StartedAt: 2025-01-30 15:25:49 -0500 (Thu, 30 Jan 2025) EndedAt: 2025-01-30 15:26:58 -0500 (Thu, 30 Jan 2025) EllapsedTime: 68.9 seconds RetCode: 0 Status: OK