Package: BEARscc Version: 1.26.0 Command: /home/biocbuild/bbs-3.20-bioc/R/bin/R CMD check --install=check:BEARscc.install-out.txt --library=/home/biocbuild/bbs-3.20-bioc/R/site-library --timings BEARscc_1.26.0.tar.gz StartedAt: 2025-01-30 20:08:01 -0500 (Thu, 30 Jan 2025) EndedAt: 2025-01-30 20:11:58 -0500 (Thu, 30 Jan 2025) EllapsedTime: 237.2 seconds RetCode: 1 Status: ERROR CheckDir: BEARscc.Rcheck Warnings: NA