Package: BEARscc Version: 1.25.0 Command: chmod a+r BEARscc -R && F:\biocbuild\bbs-3.20-bioc\R\bin\R.exe CMD build --keep-empty-dirs --no-resave-data BEARscc StartedAt: 2024-06-09 17:23:27 -0400 (Sun, 09 Jun 2024) EndedAt: 2024-06-09 17:25:13 -0400 (Sun, 09 Jun 2024) EllapsedTime: 106.0 seconds RetCode: 0 Status: OK PackageFile: BEARscc_1.25.0.tar.gz PackageFileSize: 638.3 KiB