Package: BEARscc Version: 1.26.0 Command: rm -rf BEARscc.buildbin-libdir && mkdir BEARscc.buildbin-libdir && F:\biocbuild\bbs-3.20-bioc\R\bin\R.exe CMD INSTALL --build --library=BEARscc.buildbin-libdir BEARscc_1.26.0.tar.gz StartedAt: 2025-01-31 08:12:30 -0500 (Fri, 31 Jan 2025) EndedAt: 2025-01-31 08:13:11 -0500 (Fri, 31 Jan 2025) EllapsedTime: 40.9 seconds RetCode: 0 Status: OK PackageFile: BEARscc_1.26.0.zip PackageFileSize: 690.3 KiB