Package: BEARscc Version: 1.26.0 Command: F:\biocbuild\bbs-3.20-bioc\R\bin\R.exe CMD check --no-multiarch --install=check:BEARscc.install-out.txt --library=F:\biocbuild\bbs-3.20-bioc\R\library --no-vignettes --timings BEARscc_1.26.0.tar.gz StartedAt: 2025-01-30 23:38:21 -0500 (Thu, 30 Jan 2025) EndedAt: 2025-01-30 23:42:31 -0500 (Thu, 30 Jan 2025) EllapsedTime: 250.3 seconds RetCode: 1 Status: ERROR CheckDir: BEARscc.Rcheck Warnings: NA