Package: BEARscc Version: 1.26.0 Command: F:\biocbuild\bbs-3.20-bioc\R\bin\R.exe CMD INSTALL BEARscc StartedAt: 2025-01-30 16:17:41 -0500 (Thu, 30 Jan 2025) EndedAt: 2025-01-30 16:18:27 -0500 (Thu, 30 Jan 2025) EllapsedTime: 46.2 seconds RetCode: 0 Status: OK