Package: BEARscc Version: 1.26.0 Command: /home/biocbuild/R/R/bin/R CMD build --keep-empty-dirs --no-resave-data BEARscc StartedAt: 2025-01-30 21:48:38 -0000 (Thu, 30 Jan 2025) EndedAt: 2025-01-30 21:49:49 -0000 (Thu, 30 Jan 2025) EllapsedTime: 71.0 seconds RetCode: 0 Status: OK PackageFile: BEARscc_1.26.0.tar.gz PackageFileSize: 642.1 KiB