Package: BEARscc Version: 1.26.0 Command: /home/biocbuild/R/R/bin/R CMD check --install=check:BEARscc.install-out.txt --library=/home/biocbuild/R/R/site-library --no-vignettes --timings BEARscc_1.26.0.tar.gz StartedAt: 2025-01-31 04:04:07 -0000 (Fri, 31 Jan 2025) EndedAt: 2025-01-31 04:08:57 -0000 (Fri, 31 Jan 2025) EllapsedTime: 289.4 seconds RetCode: 1 Status: ERROR CheckDir: BEARscc.Rcheck Warnings: NA