Package: BEAT Version: 1.44.0 Command: /Library/Frameworks/R.framework/Resources/bin/R CMD build --keep-empty-dirs --no-resave-data BEAT StartedAt: 2025-02-03 19:16:30 -0500 (Mon, 03 Feb 2025) EndedAt: 2025-02-03 19:18:11 -0500 (Mon, 03 Feb 2025) EllapsedTime: 100.9 seconds RetCode: 0 Status: OK PackageFile: BEAT_1.44.0.tar.gz PackageFileSize: 3.292 MiB