Package: BERT Version: 1.2.0 Command: rm -rf BERT.buildbin-libdir && mkdir BERT.buildbin-libdir && /Users/biocbuild/BBS/utils/build-universal.sh BERT_1.2.0.tar.gz /Library/Frameworks/R.framework/Resources/bin/R BERT.buildbin-libdir StartedAt: 2025-02-05 14:56:14 -0500 (Wed, 05 Feb 2025) EndedAt: 2025-02-05 14:56:18 -0500 (Wed, 05 Feb 2025) EllapsedTime: 4.6 seconds RetCode: 0 Status: OK PackageFile: BERT_1.2.0.tgz PackageFileSize: 322.5 KiB