Package: BERT Version: 1.2.0 Command: /Library/Frameworks/R.framework/Resources/bin/R CMD INSTALL BERT StartedAt: 2025-02-10 17:19:55 -0500 (Mon, 10 Feb 2025) EndedAt: 2025-02-10 17:19:58 -0500 (Mon, 10 Feb 2025) EllapsedTime: 3.5 seconds RetCode: 0 Status: OK