Package: BERT Version: 1.2.0 Command: /home/biocbuild/bbs-3.20-bioc/R/bin/R CMD build --keep-empty-dirs --no-resave-data --md5 BERT StartedAt: 2025-02-10 16:21:30 -0500 (Mon, 10 Feb 2025) EndedAt: 2025-02-10 16:21:54 -0500 (Mon, 10 Feb 2025) EllapsedTime: 24.0 seconds RetCode: 0 Status: OK PackageFile: BERT_1.2.0.tar.gz PackageFileSize: 259.4 KiB