Package: BERT Version: 1.2.0 Command: /home/biocbuild/bbs-3.20-bioc/R/bin/R CMD check --install=check:BERT.install-out.txt --library=/home/biocbuild/bbs-3.20-bioc/R/site-library --timings BERT_1.2.0.tar.gz StartedAt: 2025-02-10 20:11:48 -0500 (Mon, 10 Feb 2025) EndedAt: 2025-02-10 20:13:15 -0500 (Mon, 10 Feb 2025) EllapsedTime: 87.1 seconds RetCode: 0 Status: OK CheckDir: BERT.Rcheck Warnings: 0