Package: BERT Version: 1.2.0 Command: rm -rf BERT.buildbin-libdir && mkdir BERT.buildbin-libdir && F:\biocbuild\bbs-3.20-bioc\R\bin\R.exe CMD INSTALL --build --library=BERT.buildbin-libdir BERT_1.2.0.tar.gz StartedAt: 2025-02-04 08:01:57 -0500 (Tue, 04 Feb 2025) EndedAt: 2025-02-04 08:02:09 -0500 (Tue, 04 Feb 2025) EllapsedTime: 11.9 seconds RetCode: 0 Status: OK PackageFile: BERT_1.2.0.zip PackageFileSize: 327.3 KiB