Package: BG2 Version: 1.6.0 Command: /Library/Frameworks/R.framework/Resources/bin/R CMD check --install=check:BG2.install-out.txt --library=/Library/Frameworks/R.framework/Resources/library --no-vignettes --timings BG2_1.6.0.tar.gz StartedAt: 2025-02-04 12:19:23 -0500 (Tue, 04 Feb 2025) EndedAt: 2025-02-04 12:31:15 -0500 (Tue, 04 Feb 2025) EllapsedTime: 712.6 seconds RetCode: 0 Status: OK CheckDir: BG2.Rcheck Warnings: 0