Package: BG2 Version: 1.6.0 Command: F:\biocbuild\bbs-3.20-bioc\R\bin\R.exe CMD check --no-multiarch --install=check:BG2.install-out.txt --library=F:\biocbuild\bbs-3.20-bioc\R\library --no-vignettes --timings BG2_1.6.0.tar.gz StartedAt: 2025-02-03 23:27:15 -0500 (Mon, 03 Feb 2025) EndedAt: 2025-02-03 23:39:52 -0500 (Mon, 03 Feb 2025) EllapsedTime: 756.7 seconds RetCode: 0 Status: OK CheckDir: BG2.Rcheck Warnings: 0