Package: BG2 Version: 1.6.0 Command: /home/biocbuild/R/R/bin/R CMD build --keep-empty-dirs --no-resave-data BG2 StartedAt: 2025-02-10 21:38:56 -0000 (Mon, 10 Feb 2025) EndedAt: 2025-02-10 21:44:24 -0000 (Mon, 10 Feb 2025) EllapsedTime: 328.1 seconds RetCode: 0 Status: OK PackageFile: BG2_1.6.0.tar.gz PackageFileSize: 1.155 MiB