Package: BOBaFIT Version: 1.10.0 Command: /Library/Frameworks/R.framework/Resources/bin/R CMD check --install=check:BOBaFIT.install-out.txt --library=/Library/Frameworks/R.framework/Resources/library --no-vignettes --timings BOBaFIT_1.10.0.tar.gz StartedAt: 2025-02-04 00:33:00 -0500 (Tue, 04 Feb 2025) EndedAt: 2025-02-04 00:47:43 -0500 (Tue, 04 Feb 2025) EllapsedTime: 883.2 seconds RetCode: 0 Status: WARNINGS CheckDir: BOBaFIT.Rcheck Warnings: 1