Package: BOBaFIT Version: 1.10.0 Command: chmod a+r BOBaFIT -R && F:\biocbuild\bbs-3.20-bioc\R\bin\R.exe CMD build --keep-empty-dirs --no-resave-data BOBaFIT StartedAt: 2025-01-30 17:39:23 -0500 (Thu, 30 Jan 2025) EndedAt: 2025-01-30 17:41:46 -0500 (Thu, 30 Jan 2025) EllapsedTime: 143.5 seconds RetCode: 0 Status: OK PackageFile: BOBaFIT_1.10.0.tar.gz PackageFileSize: 2.498 MiB