Package: BOBaFIT Version: 1.10.0 Command: F:\biocbuild\bbs-3.20-bioc\R\bin\R.exe CMD INSTALL BOBaFIT StartedAt: 2025-02-03 17:00:16 -0500 (Mon, 03 Feb 2025) EndedAt: 2025-02-03 17:01:17 -0500 (Mon, 03 Feb 2025) EllapsedTime: 60.8 seconds RetCode: 0 Status: OK