Package: BOBaFIT Version: 1.10.0 Command: /home/biocbuild/R/R/bin/R CMD build --keep-empty-dirs --no-resave-data BOBaFIT StartedAt: 2025-01-30 22:13:29 -0000 (Thu, 30 Jan 2025) EndedAt: 2025-01-30 22:15:39 -0000 (Thu, 30 Jan 2025) EllapsedTime: 130.0 seconds RetCode: 0 Status: OK PackageFile: BOBaFIT_1.10.0.tar.gz PackageFileSize: 2.543 MiB