Package: BPRMeth Version: 1.32.0 Command: /Library/Frameworks/R.framework/Resources/bin/R CMD check --install=check:BPRMeth.install-out.txt --library=/Library/Frameworks/R.framework/Resources/library --no-vignettes --timings BPRMeth_1.32.0.tar.gz StartedAt: 2025-02-04 00:33:21 -0500 (Tue, 04 Feb 2025) EndedAt: 2025-02-04 00:38:39 -0500 (Tue, 04 Feb 2025) EllapsedTime: 318.0 seconds RetCode: 0 Status: OK CheckDir: BPRMeth.Rcheck Warnings: 0