Package: BPRMeth Version: 1.32.0 Command: /Library/Frameworks/R.framework/Resources/bin/R CMD INSTALL BPRMeth StartedAt: 2025-01-30 15:59:16 -0500 (Thu, 30 Jan 2025) EndedAt: 2025-01-30 16:00:15 -0500 (Thu, 30 Jan 2025) EllapsedTime: 59.5 seconds RetCode: 0 Status: OK