Package: BPRMeth Version: 1.32.0 Command: F:\biocbuild\bbs-3.20-bioc\R\bin\R.exe CMD check --no-multiarch --install=check:BPRMeth.install-out.txt --library=F:\biocbuild\bbs-3.20-bioc\R\library --no-vignettes --timings BPRMeth_1.32.0.tar.gz StartedAt: 2025-02-10 23:43:40 -0500 (Mon, 10 Feb 2025) EndedAt: 2025-02-10 23:47:22 -0500 (Mon, 10 Feb 2025) EllapsedTime: 222.9 seconds RetCode: 0 Status: OK CheckDir: BPRMeth.Rcheck Warnings: 0