Package: BREW3R.r Version: 1.2.0 Command: /Library/Frameworks/R.framework/Resources/bin/R CMD build --keep-empty-dirs --no-resave-data BREW3R.r StartedAt: 2025-01-30 19:58:54 -0500 (Thu, 30 Jan 2025) EndedAt: 2025-01-30 19:59:39 -0500 (Thu, 30 Jan 2025) EllapsedTime: 44.6 seconds RetCode: 0 Status: OK PackageFile: BREW3R.r_1.2.0.tar.gz PackageFileSize: 1.901 MiB