Package: BREW3R.r Version: 1.2.0 Command: /Library/Frameworks/R.framework/Resources/bin/R CMD check --install=check:BREW3R.r.install-out.txt --library=/Library/Frameworks/R.framework/Resources/library --no-vignettes --timings BREW3R.r_1.2.0.tar.gz StartedAt: 2024-11-19 20:07:03 -0500 (Tue, 19 Nov 2024) EndedAt: 2024-11-19 20:12:01 -0500 (Tue, 19 Nov 2024) EllapsedTime: 298.8 seconds RetCode: 0 Status: OK CheckDir: BREW3R.r.Rcheck Warnings: 0