Package: BREW3R.r Version: 1.2.0 Command: /Library/Frameworks/R.framework/Resources/bin/R CMD check --install=check:BREW3R.r.install-out.txt --library=/Library/Frameworks/R.framework/Resources/library --no-vignettes --timings BREW3R.r_1.2.0.tar.gz StartedAt: 2025-01-31 01:01:51 -0500 (Fri, 31 Jan 2025) EndedAt: 2025-01-31 01:05:11 -0500 (Fri, 31 Jan 2025) EllapsedTime: 200.0 seconds RetCode: 0 Status: OK CheckDir: BREW3R.r.Rcheck Warnings: 0