Package: BREW3R.r Version: 1.2.0 Command: /home/biocbuild/bbs-3.20-bioc/R/bin/R CMD build --keep-empty-dirs --no-resave-data --md5 BREW3R.r StartedAt: 2025-01-30 16:30:29 -0500 (Thu, 30 Jan 2025) EndedAt: 2025-01-30 16:31:04 -0500 (Thu, 30 Jan 2025) EllapsedTime: 35.0 seconds RetCode: 0 Status: OK PackageFile: BREW3R.r_1.2.0.tar.gz PackageFileSize: 1.888 MiB