Package: BREW3R.r Version: 1.2.0 Command: /home/biocbuild/bbs-3.20-bioc/R/bin/R CMD check --install=check:BREW3R.r.install-out.txt --library=/home/biocbuild/bbs-3.20-bioc/R/site-library --timings BREW3R.r_1.2.0.tar.gz StartedAt: 2025-01-30 20:25:59 -0500 (Thu, 30 Jan 2025) EndedAt: 2025-01-30 20:27:45 -0500 (Thu, 30 Jan 2025) EllapsedTime: 106.2 seconds RetCode: 0 Status: OK CheckDir: BREW3R.r.Rcheck Warnings: 0