Package: BREW3R.r Version: 1.2.0 Command: /home/biocbuild/bbs-3.20-bioc/R/bin/R CMD INSTALL BREW3R.r StartedAt: 2025-01-30 15:10:57 -0500 (Thu, 30 Jan 2025) EndedAt: 2025-01-30 15:11:05 -0500 (Thu, 30 Jan 2025) EllapsedTime: 8.1 seconds RetCode: 0 Status: OK