Package: BREW3R.r Version: 1.1.1 Command: C:\Users\biocbuild\bbs-3.20-bioc\R\bin\R.exe CMD INSTALL BREW3R.r StartedAt: 2024-07-15 15:24:43 -0400 (Mon, 15 Jul 2024) EndedAt: 2024-07-15 15:24:54 -0400 (Mon, 15 Jul 2024) EllapsedTime: 10.8 seconds RetCode: 0 Status: OK