Package: BREW3R.r Version: 1.2.0 Command: chmod a+r BREW3R.r -R && F:\biocbuild\bbs-3.20-bioc\R\bin\R.exe CMD build --keep-empty-dirs --no-resave-data BREW3R.r StartedAt: 2025-01-30 17:40:54 -0500 (Thu, 30 Jan 2025) EndedAt: 2025-01-30 17:41:49 -0500 (Thu, 30 Jan 2025) EllapsedTime: 54.3 seconds RetCode: 0 Status: OK PackageFile: BREW3R.r_1.2.0.tar.gz PackageFileSize: 1.809 MiB